BEGIN:VCALENDAR
VERSION:2.0
PRODID:-//Shyft Pilates - ECPv6.15.20//NONSGML v1.0//EN
CALSCALE:GREGORIAN
METHOD:PUBLISH
X-WR-CALNAME:Shyft Pilates
X-ORIGINAL-URL:https://shyftpilates.com
X-WR-CALDESC:Events for Shyft Pilates
REFRESH-INTERVAL;VALUE=DURATION:PT1H
X-Robots-Tag:noindex
X-PUBLISHED-TTL:PT1H
BEGIN:VTIMEZONE
TZID:America/Chicago
BEGIN:DAYLIGHT
TZOFFSETFROM:-0600
TZOFFSETTO:-0500
TZNAME:CDT
DTSTART:20250309T080000
END:DAYLIGHT
BEGIN:STANDARD
TZOFFSETFROM:-0500
TZOFFSETTO:-0600
TZNAME:CST
DTSTART:20251102T070000
END:STANDARD
BEGIN:DAYLIGHT
TZOFFSETFROM:-0600
TZOFFSETTO:-0500
TZNAME:CDT
DTSTART:20260308T080000
END:DAYLIGHT
BEGIN:STANDARD
TZOFFSETFROM:-0500
TZOFFSETTO:-0600
TZNAME:CST
DTSTART:20261101T070000
END:STANDARD
BEGIN:DAYLIGHT
TZOFFSETFROM:-0600
TZOFFSETTO:-0500
TZNAME:CDT
DTSTART:20270314T080000
END:DAYLIGHT
BEGIN:STANDARD
TZOFFSETFROM:-0500
TZOFFSETTO:-0600
TZNAME:CST
DTSTART:20271107T070000
END:STANDARD
END:VTIMEZONE
BEGIN:VEVENT
DTSTART;TZID=America/Chicago:20260419T083000
DTEND;TZID=America/Chicago:20260419T091500
DTSTAMP:20260419T081631
CREATED:20260419T060217Z
LAST-MODIFIED:20260419T060217Z
UID:1925-1776587400-1776590100@shyftpilates.com
SUMMARY:Mat Fusion Pop-Up (Free Community Class)
DESCRIPTION:Join us for a special Mat Fusion pop-up class at Shyft Pilates. \nThis class blends classical Pilates principles with contemporary movement to help you build strength\, improve control\, and connect more deeply to your body. It’s a great way to experience the mat side of Pilates in a supportive\, welcoming environment. \nWhether you’re new to Shyft or already part of our community\, this is a fun\, low-pressure way to move and start your day. \n\nWhat to Expect: \n\nA full-body\, strength-focused mat workout\nA welcoming\, all-levels environment\nA great introduction to Shyft Pilates\n\n\nSpots are limited. \nReserve your spot today. \n\nBring a friend and enjoy the experience together.
URL:https://shyftpilates.com/event/mat-fusion-pop-up-free-community-class/
LOCATION:Shyft Pilates
ORGANIZER;CN="Shyft Pilates":MAILTO:hello@shyfpilates.com
END:VEVENT
BEGIN:VEVENT
DTSTART;TZID=America/Chicago:20260424T173000
DTEND;TZID=America/Chicago:20260424T190000
DTSTAMP:20260419T081631
CREATED:20260419T055929Z
LAST-MODIFIED:20260419T055929Z
UID:1922-1777051800-1777057200@shyftpilates.com
SUMMARY:Candle Pouring + Pilates with Hand Poured Peace
DESCRIPTION:Join us for a unique experience at Shyft Pilates\, combining creativity\, movement\, and relaxation. \nWe’re partnering with Hand Poured Peace to guide you through creating your own custom candle—choosing scents and blending ingredients to make something that’s uniquely yours. \nWhile your candle sets\, you’ll move through a guided Mat Fusion class designed to build strength\, improve mobility\, and leave you feeling refreshed heading into the weekend. \nThis is a welcoming\, low-pressure event—perfect whether you’re new to Shyft or already part of our community. \n\nWhat to Expect: \n\nCandle pouring experience with Hand Poured Peace\nGuided Mat Fusion Pilates class\nA relaxed\, social atmosphere\nA unique way to unwind and move\n\n\nSpots are limited for this event. \nReserve your spot today. \n\nIf you’re currently a member\, don’t forget to use your discounted rate at checkout.If you’ve been considering membership\, feel free to reach out—we’re happy to walk you through current perks and options.
URL:https://shyftpilates.com/event/candle-pouring-pilates-with-hand-poured-peace/
LOCATION:Shyft Pilates
ORGANIZER;CN="Shyft Pilates":MAILTO:hello@shyfpilates.com
END:VEVENT
END:VCALENDAR